Package: CSAR Version: 1.62.0 Maintainer: Jose M Muino MaintainerEmail: jose.muino at live.com git_url: https://git.bioconductor.org/packages/CSAR git_branch: RELEASE_3_22 git_last_commit: cb0f7e2 git_last_commit_date: 2025-10-29 10:04:05 -0500 (Wed, 29 Oct 2025)