Package: CRISPRseek Version: 1.48.0 Command: rm -rf CRISPRseek.buildbin-libdir && mkdir CRISPRseek.buildbin-libdir && E:\biocbuild\bbs-3.21-bioc\R\bin\R.exe CMD INSTALL --build --library=CRISPRseek.buildbin-libdir CRISPRseek_1.48.0.tar.gz StartedAt: 2025-08-15 09:04:19 -0400 (Fri, 15 Aug 2025) EndedAt: 2025-08-15 09:05:55 -0400 (Fri, 15 Aug 2025) EllapsedTime: 95.8 seconds RetCode: 0 Status: OK PackageFile: CRISPRseek_1.48.0.zip PackageFileSize: 12.26 MiB