Package: CRISPRball Version: 1.4.0 Command: E:\biocbuild\bbs-3.21-bioc\R\bin\R.exe CMD check --no-multiarch --install=check:CRISPRball.install-out.txt --library=E:\biocbuild\bbs-3.21-bioc\R\library --no-vignettes --timings CRISPRball_1.4.0.tar.gz StartedAt: 2025-08-15 00:58:57 -0400 (Fri, 15 Aug 2025) EndedAt: 2025-08-15 01:04:40 -0400 (Fri, 15 Aug 2025) EllapsedTime: 342.6 seconds RetCode: 0 Status: OK CheckDir: CRISPRball.Rcheck Warnings: 0