Package: CRISPRball Version: 1.6.0 Command: /home/biocbuild/bbs-3.22-bioc/R/bin/R CMD build --keep-empty-dirs --no-resave-data --md5 CRISPRball StartedAt: 2025-11-17 20:22:20 -0500 (Mon, 17 Nov 2025) EndedAt: 2025-11-17 20:23:05 -0500 (Mon, 17 Nov 2025) EllapsedTime: 45.0 seconds RetCode: 0 Status: OK PackageFile: CRISPRball_1.6.0.tar.gz PackageFileSize: 2.617 MiB