Package: COTAN Version: 2.9.7 Command: /home/biocbuild/R/R/bin/R CMD INSTALL COTAN StartedAt: 2025-10-23 21:16:50 -0000 (Thu, 23 Oct 2025) EndedAt: 2025-10-23 21:17:54 -0000 (Thu, 23 Oct 2025) EllapsedTime: 63.3 seconds RetCode: 0 Status: OK