Package: COTAN Version: 2.10.0 Command: /home/biocbuild/bbs-3.22-bioc/R/bin/R CMD INSTALL COTAN StartedAt: 2025-11-06 15:56:00 -0500 (Thu, 06 Nov 2025) EndedAt: 2025-11-06 15:56:48 -0500 (Thu, 06 Nov 2025) EllapsedTime: 48.2 seconds RetCode: 0 Status: OK