Package: COTAN Version: 2.8.5 Command: /home/biocbuild/R/R/bin/R CMD INSTALL COTAN StartedAt: 2025-10-13 21:13:04 -0000 (Mon, 13 Oct 2025) EndedAt: 2025-10-13 21:14:14 -0000 (Mon, 13 Oct 2025) EllapsedTime: 69.3 seconds RetCode: 0 Status: OK