Package: COTAN Version: 2.8.5 Command: /home/biocbuild/R/R/bin/R CMD build --keep-empty-dirs --no-resave-data COTAN StartedAt: 2025-10-13 23:53:25 -0000 (Mon, 13 Oct 2025) EndedAt: 2025-10-14 00:07:08 -0000 (Tue, 14 Oct 2025) EllapsedTime: 822.3 seconds RetCode: 0 Status: OK PackageFile: COTAN_2.8.5.tar.gz PackageFileSize: 3.95 MiB