Package: COTAN Version: 2.10.0 Command: /Library/Frameworks/R.framework/Resources/bin/R CMD build --keep-empty-dirs --no-resave-data COTAN StartedAt: 2025-11-09 16:02:26 -0500 (Sun, 09 Nov 2025) EndedAt: 2025-11-09 16:07:32 -0500 (Sun, 09 Nov 2025) EllapsedTime: 305.3 seconds RetCode: 0 Status: OK PackageFile: COTAN_2.10.0.tar.gz PackageFileSize: 4.077 MiB