Package: CONFESS Version: 1.36.0 Command: /Library/Frameworks/R.framework/Resources/bin/R CMD build --keep-empty-dirs --no-resave-data CONFESS StartedAt: 2025-10-02 18:05:52 -0400 (Thu, 02 Oct 2025) EndedAt: 2025-10-02 18:12:15 -0400 (Thu, 02 Oct 2025) EllapsedTime: 382.6 seconds RetCode: 0 Status: OK PackageFile: CONFESS_1.36.0.tar.gz PackageFileSize: 3.587 MiB