Package: CODEX Version: 1.42.0 Command: /home/biocbuild/R/R/bin/R CMD INSTALL CODEX StartedAt: 2025-11-20 22:27:00 -0000 (Thu, 20 Nov 2025) EndedAt: 2025-11-20 22:27:42 -0000 (Thu, 20 Nov 2025) EllapsedTime: 41.3 seconds RetCode: 0 Status: OK