Package: CODEX Version: 1.42.0 Command: /home/biocbuild/R/R/bin/R CMD build --keep-empty-dirs --no-resave-data CODEX StartedAt: 2025-11-21 01:19:50 -0000 (Fri, 21 Nov 2025) EndedAt: 2025-11-21 01:22:14 -0000 (Fri, 21 Nov 2025) EllapsedTime: 144.0 seconds RetCode: 0 Status: OK PackageFile: CODEX_1.42.0.tar.gz PackageFileSize: 909.4 KiB