Package: CODEX Version: 1.42.0 Command: /home/biocbuild/bbs-3.22-bioc/R/bin/R CMD INSTALL CODEX StartedAt: 2025-11-20 16:26:50 -0500 (Thu, 20 Nov 2025) EndedAt: 2025-11-20 16:27:21 -0500 (Thu, 20 Nov 2025) EllapsedTime: 31.0 seconds RetCode: 0 Status: OK