Package: COCOA Version: 2.23.1 Command: /home/biocbuild/R/R/bin/R CMD check --install=check:COCOA.install-out.txt --library=/home/biocbuild/R/R/site-library --no-vignettes --timings COCOA_2.23.1.tar.gz StartedAt: 2025-10-21 06:41:51 -0000 (Tue, 21 Oct 2025) EndedAt: 2025-10-21 06:49:03 -0000 (Tue, 21 Oct 2025) EllapsedTime: 431.3 seconds RetCode: 0 Status: OK CheckDir: COCOA.Rcheck Warnings: 0