Package: CNVrd2 Version: 1.46.0 Command: /Library/Frameworks/R.framework/Resources/bin/R CMD INSTALL CNVrd2 StartedAt: 2025-10-13 16:18:49 -0400 (Mon, 13 Oct 2025) EndedAt: 2025-10-13 16:20:14 -0400 (Mon, 13 Oct 2025) EllapsedTime: 85.2 seconds RetCode: 0 Status: OK