Package: CNVrd2 Version: 1.46.0 Command: rm -rf CNVrd2.buildbin-libdir && mkdir CNVrd2.buildbin-libdir && /Users/biocbuild/BBS/utils/build-universal.sh CNVrd2_1.46.0.tar.gz /Library/Frameworks/R.framework/Resources/bin/R CNVrd2.buildbin-libdir StartedAt: 2025-10-14 13:06:05 -0400 (Tue, 14 Oct 2025) EndedAt: 2025-10-14 13:07:47 -0400 (Tue, 14 Oct 2025) EllapsedTime: 102.0 seconds RetCode: 0 Status: OK PackageFile: CNVrd2_1.46.0.tgz PackageFileSize: 2.923 MiB