Package: CNVRanger Version: 1.24.2 Command: /home/biocbuild/R/R/bin/R CMD INSTALL CNVRanger StartedAt: 2025-10-13 20:38:20 -0000 (Mon, 13 Oct 2025) EndedAt: 2025-10-13 20:38:53 -0000 (Mon, 13 Oct 2025) EllapsedTime: 32.8 seconds RetCode: 0 Status: OK