Package: CNVRanger Version: 1.24.2 Command: /home/biocbuild/R/R/bin/R CMD check --install=check:CNVRanger.install-out.txt --library=/home/biocbuild/R/R/site-library --no-vignettes --timings CNVRanger_1.24.2.tar.gz StartedAt: 2025-10-14 07:40:40 -0000 (Tue, 14 Oct 2025) EndedAt: 2025-10-14 07:45:57 -0000 (Tue, 14 Oct 2025) EllapsedTime: 316.2 seconds RetCode: 0 Status: OK CheckDir: CNVRanger.Rcheck Warnings: 0