Package: CNVMetrics Version: 1.12.0 Command: /home/biocbuild/R/R/bin/R CMD INSTALL CNVMetrics StartedAt: 2025-10-13 21:14:14 -0000 (Mon, 13 Oct 2025) EndedAt: 2025-10-13 21:14:29 -0000 (Mon, 13 Oct 2025) EllapsedTime: 15.5 seconds RetCode: 0 Status: OK