Package: CNTools Version: 1.66.0 Command: /home/biocbuild/R/R/bin/R CMD INSTALL CNTools StartedAt: 2025-11-10 21:35:21 -0000 (Mon, 10 Nov 2025) EndedAt: 2025-11-10 21:35:47 -0000 (Mon, 10 Nov 2025) EllapsedTime: 25.9 seconds RetCode: 0 Status: OK