Package: CNTools Version: 1.66.0 Command: /home/biocbuild/R/R/bin/R CMD check --install=check:CNTools.install-out.txt --library=/home/biocbuild/R/R/site-library --no-vignettes --timings CNTools_1.66.0.tar.gz StartedAt: 2025-11-11 08:19:26 -0000 (Tue, 11 Nov 2025) EndedAt: 2025-11-11 08:21:58 -0000 (Tue, 11 Nov 2025) EllapsedTime: 152.1 seconds RetCode: 0 Status: OK CheckDir: CNTools.Rcheck Warnings: 0