Package: CNTools Version: 1.66.0 Command: /home/biocbuild/R/R/bin/R CMD build --keep-empty-dirs --no-resave-data CNTools StartedAt: 2025-11-11 00:35:45 -0000 (Tue, 11 Nov 2025) EndedAt: 2025-11-11 00:36:20 -0000 (Tue, 11 Nov 2025) EllapsedTime: 35.0 seconds RetCode: 0 Status: OK PackageFile: CNTools_1.66.0.tar.gz PackageFileSize: 954.8 KiB