Package: CNTools Version: 1.66.0 Command: /home/biocbuild/bbs-3.22-bioc/R/bin/R CMD check --install=check:CNTools.install-out.txt --library=/home/biocbuild/bbs-3.22-bioc/R/site-library --timings CNTools_1.66.0.tar.gz StartedAt: 2025-11-06 22:12:21 -0500 (Thu, 06 Nov 2025) EndedAt: 2025-11-06 22:14:28 -0500 (Thu, 06 Nov 2025) EllapsedTime: 127.1 seconds RetCode: 0 Status: OK CheckDir: CNTools.Rcheck Warnings: 0