Package: CNORfeeder Version: 1.50.0 Command: /home/biocbuild/R/R/bin/R CMD INSTALL CNORfeeder StartedAt: 2025-11-10 21:21:02 -0000 (Mon, 10 Nov 2025) EndedAt: 2025-11-10 21:21:14 -0000 (Mon, 10 Nov 2025) EllapsedTime: 12.1 seconds RetCode: 0 Status: OK