Package: CNORfeeder Version: 1.50.0 Command: /home/biocbuild/R/R/bin/R CMD check --install=check:CNORfeeder.install-out.txt --library=/home/biocbuild/R/R/site-library --no-vignettes --timings CNORfeeder_1.50.0.tar.gz StartedAt: 2025-11-11 08:18:56 -0000 (Tue, 11 Nov 2025) EndedAt: 2025-11-11 08:20:17 -0000 (Tue, 11 Nov 2025) EllapsedTime: 81.1 seconds RetCode: 0 Status: WARNINGS CheckDir: CNORfeeder.Rcheck Warnings: 4