Package: CNORfeeder Version: 1.49.0 Command: chmod a+r CNORfeeder -R && F:\biocbuild\bbs-3.22-bioc\R\bin\R.exe CMD build --keep-empty-dirs --no-resave-data CNORfeeder StartedAt: 2025-08-14 19:12:47 -0400 (Thu, 14 Aug 2025) EndedAt: 2025-08-14 19:13:18 -0400 (Thu, 14 Aug 2025) EllapsedTime: 30.7 seconds RetCode: 0 Status: OK PackageFile: CNORfeeder_1.49.0.tar.gz PackageFileSize: 3.296 MiB