Package: CNORdt Version: 1.50.0 Command: /Library/Frameworks/R.framework/Resources/bin/R CMD build --keep-empty-dirs --no-resave-data CNORdt StartedAt: 2025-04-21 15:56:49 -0400 (Mon, 21 Apr 2025) EndedAt: 2025-04-21 15:57:12 -0400 (Mon, 21 Apr 2025) EllapsedTime: 23.3 seconds RetCode: 0 Status: OK PackageFile: CNORdt_1.50.0.tar.gz PackageFileSize: 318.9 KiB