Package: CNORdt Version: 1.50.0 Command: /Library/Frameworks/R.framework/Resources/bin/R CMD INSTALL CNORdt StartedAt: 2025-10-13 15:41:10 -0400 (Mon, 13 Oct 2025) EndedAt: 2025-10-13 15:41:20 -0400 (Mon, 13 Oct 2025) EllapsedTime: 10.8 seconds RetCode: 0 Status: OK