Package: CNAnorm Version: 1.55.0 Command: /home/biocbuild/R/R/bin/R CMD INSTALL CNAnorm StartedAt: 2025-10-23 20:16:58 -0000 (Thu, 23 Oct 2025) EndedAt: 2025-10-23 20:17:08 -0000 (Thu, 23 Oct 2025) EllapsedTime: 9.4 seconds RetCode: 0 Status: OK