Package: CNAnorm Version: 1.55.0 Command: /home/biocbuild/R/R/bin/R CMD check --install=check:CNAnorm.install-out.txt --library=/home/biocbuild/R/R/site-library --no-vignettes --timings CNAnorm_1.55.0.tar.gz StartedAt: 2025-10-21 06:39:28 -0000 (Tue, 21 Oct 2025) EndedAt: 2025-10-21 06:40:20 -0000 (Tue, 21 Oct 2025) EllapsedTime: 52.1 seconds RetCode: 0 Status: OK CheckDir: CNAnorm.Rcheck Warnings: 0