Package: CMA Version: 1.66.0 Command: /home/biocbuild/bbs-3.21-bioc/R/bin/R CMD INSTALL CMA StartedAt: 2025-10-01 15:14:45 -0400 (Wed, 01 Oct 2025) EndedAt: 2025-10-01 15:14:58 -0400 (Wed, 01 Oct 2025) EllapsedTime: 13.0 seconds RetCode: 0 Status: OK