Package: CMA Version: 1.66.0 Command: /home/biocbuild/bbs-3.21-bioc/R/bin/R CMD check --install=check:CMA.install-out.txt --library=/home/biocbuild/bbs-3.21-bioc/R/site-library --timings CMA_1.66.0.tar.gz StartedAt: 2025-10-01 21:56:15 -0400 (Wed, 01 Oct 2025) EndedAt: 2025-10-01 21:57:18 -0400 (Wed, 01 Oct 2025) EllapsedTime: 63.1 seconds RetCode: 0 Status: OK CheckDir: CMA.Rcheck Warnings: 0