Package: CMA Version: 1.66.0 Command: /Library/Frameworks/R.framework/Resources/bin/R CMD check --install=check:CMA.install-out.txt --library=/Library/Frameworks/R.framework/Resources/library --no-vignettes --timings CMA_1.66.0.tar.gz StartedAt: 2025-09-26 01:41:02 -0400 (Fri, 26 Sep 2025) EndedAt: 2025-09-26 01:43:19 -0400 (Fri, 26 Sep 2025) EllapsedTime: 136.9 seconds RetCode: 0 Status: OK CheckDir: CMA.Rcheck Warnings: 0