Package: CMA Version: 1.66.0 Command: /Library/Frameworks/R.framework/Resources/bin/R CMD build --keep-empty-dirs --no-resave-data CMA StartedAt: 2025-09-25 17:59:01 -0400 (Thu, 25 Sep 2025) EndedAt: 2025-09-25 18:00:19 -0400 (Thu, 25 Sep 2025) EllapsedTime: 78.5 seconds RetCode: 0 Status: OK PackageFile: CMA_1.66.0.tar.gz PackageFileSize: 1.208 MiB