Package: CMA Version: 1.66.0 Command: rm -rf CMA.buildbin-libdir && mkdir CMA.buildbin-libdir && /Users/biocbuild/BBS/utils/build-universal.sh CMA_1.66.0.tar.gz /Library/Frameworks/R.framework/Resources/bin/R CMA.buildbin-libdir StartedAt: 2025-09-26 13:11:15 -0400 (Fri, 26 Sep 2025) EndedAt: 2025-09-26 13:12:13 -0400 (Fri, 26 Sep 2025) EllapsedTime: 57.5 seconds RetCode: 0 Status: OK PackageFile: CMA_1.66.0.tgz PackageFileSize: 1.897 MiB