Package: CMA Version: 1.66.0 Command: rm -rf CMA.buildbin-libdir && mkdir CMA.buildbin-libdir && /Users/biocbuild/BBS/utils/build-universal.sh CMA_1.66.0.tar.gz /Library/Frameworks/R.framework/Resources/bin/R CMA.buildbin-libdir StartedAt: 2025-04-21 22:30:18 -0400 (Mon, 21 Apr 2025) EndedAt: 2025-04-21 22:30:24 -0400 (Mon, 21 Apr 2025) EllapsedTime: 6.1 seconds RetCode: 0 Status: OK PackageFile: CMA_1.66.0.tgz PackageFileSize: 1.901 MiB