Package: CMA Version: 1.66.0 Command: /Library/Frameworks/R.framework/Resources/bin/R CMD check --install=check:CMA.install-out.txt --library=/Library/Frameworks/R.framework/Resources/library --no-vignettes --timings CMA_1.66.0.tar.gz StartedAt: 2025-10-07 17:54:36 -0400 (Tue, 07 Oct 2025) EndedAt: 2025-10-07 17:56:10 -0400 (Tue, 07 Oct 2025) EllapsedTime: 93.5 seconds RetCode: 0 Status: OK CheckDir: CMA.Rcheck Warnings: 0