Package: CMA Version: 1.66.0 Command: rm -rf CMA.buildbin-libdir && mkdir CMA.buildbin-libdir && /Users/biocbuild/BBS/utils/build-universal.sh CMA_1.66.0.tar.gz /Library/Frameworks/R.framework/Resources/bin/R CMA.buildbin-libdir StartedAt: 2025-10-08 20:15:41 -0400 (Wed, 08 Oct 2025) EndedAt: 2025-10-08 20:15:59 -0400 (Wed, 08 Oct 2025) EllapsedTime: 18.1 seconds RetCode: 0 Status: OK PackageFile: CMA_1.66.0.tgz PackageFileSize: 1.899 MiB