Package: CINdex Version: 1.38.0 Command: /home/biocbuild/bbs-3.22-bioc/R/bin/R CMD INSTALL CINdex StartedAt: 2025-11-06 15:16:47 -0500 (Thu, 06 Nov 2025) EndedAt: 2025-11-06 15:17:10 -0500 (Thu, 06 Nov 2025) EllapsedTime: 23.0 seconds RetCode: 0 Status: OK