Package: CINdex Version: 1.36.0 Command: /Library/Frameworks/R.framework/Resources/bin/R CMD INSTALL CINdex StartedAt: 2025-10-13 16:04:30 -0400 (Mon, 13 Oct 2025) EndedAt: 2025-10-13 16:05:02 -0400 (Mon, 13 Oct 2025) EllapsedTime: 31.2 seconds RetCode: 0 Status: OK