Package: CINdex Version: 1.36.0 Command: /Library/Frameworks/R.framework/Resources/bin/R CMD check --install=check:CINdex.install-out.txt --library=/Library/Frameworks/R.framework/Resources/library --no-vignettes --timings CINdex_1.36.0.tar.gz StartedAt: 2025-10-14 16:09:50 -0400 (Tue, 14 Oct 2025) EndedAt: 2025-10-14 16:12:18 -0400 (Tue, 14 Oct 2025) EllapsedTime: 148.1 seconds RetCode: 0 Status: WARNINGS CheckDir: CINdex.Rcheck Warnings: 1