Package: CINdex Version: 1.36.0 Command: /Library/Frameworks/R.framework/Resources/bin/R CMD build --keep-empty-dirs --no-resave-data CINdex StartedAt: 2025-10-13 21:15:36 -0400 (Mon, 13 Oct 2025) EndedAt: 2025-10-13 21:20:56 -0400 (Mon, 13 Oct 2025) EllapsedTime: 320.3 seconds RetCode: 0 Status: OK PackageFile: CINdex_1.36.0.tar.gz PackageFileSize: 12.58 MiB