Package: CINdex Version: 1.36.0 Command: rm -rf CINdex.buildbin-libdir && mkdir CINdex.buildbin-libdir && /Users/biocbuild/BBS/utils/build-universal.sh CINdex_1.36.0.tar.gz /Library/Frameworks/R.framework/Resources/bin/R CINdex.buildbin-libdir StartedAt: 2025-10-15 17:51:27 -0400 (Wed, 15 Oct 2025) EndedAt: 2025-10-15 17:52:03 -0400 (Wed, 15 Oct 2025) EllapsedTime: 36.2 seconds RetCode: 0 Status: OK PackageFile: CINdex_1.36.0.tgz PackageFileSize: 16.67 MiB