Package: CIMICE Version: 1.16.0 Command: E:\biocbuild\bbs-3.21-bioc\R\bin\R.exe CMD INSTALL CIMICE StartedAt: 2025-08-14 15:35:58 -0400 (Thu, 14 Aug 2025) EndedAt: 2025-08-14 15:36:24 -0400 (Thu, 14 Aug 2025) EllapsedTime: 25.9 seconds RetCode: 0 Status: OK