Package: CGHregions Version: 1.66.0 Command: rm -rf CGHregions.buildbin-libdir && mkdir CGHregions.buildbin-libdir && E:\biocbuild\bbs-3.21-bioc\R\bin\R.exe CMD INSTALL --build --library=CGHregions.buildbin-libdir CGHregions_1.66.0.tar.gz StartedAt: 2025-08-15 08:58:04 -0400 (Fri, 15 Aug 2025) EndedAt: 2025-08-15 08:58:21 -0400 (Fri, 15 Aug 2025) EllapsedTime: 16.5 seconds RetCode: 0 Status: OK PackageFile: CGHregions_1.66.0.zip PackageFileSize: 134.9 KiB