Package: CGEN Version: 3.45.0 Command: /home/biocbuild/R/R/bin/R CMD check --install=check:CGEN.install-out.txt --library=/home/biocbuild/R/R/site-library --no-vignettes --timings CGEN_3.45.0.tar.gz StartedAt: 2025-10-21 06:23:14 -0000 (Tue, 21 Oct 2025) EndedAt: 2025-10-21 06:26:29 -0000 (Tue, 21 Oct 2025) EllapsedTime: 194.1 seconds RetCode: 0 Status: WARNINGS CheckDir: CGEN.Rcheck Warnings: 1