Package: CGEN Version: 3.45.0 Command: /home/biocbuild/R/R/bin/R CMD build --keep-empty-dirs --no-resave-data CGEN StartedAt: 2025-10-20 22:37:54 -0000 (Mon, 20 Oct 2025) EndedAt: 2025-10-20 22:38:51 -0000 (Mon, 20 Oct 2025) EllapsedTime: 57.0 seconds RetCode: 0 Status: OK PackageFile: CGEN_3.45.0.tar.gz PackageFileSize: 973.1 KiB