Package: CGEN Version: 3.46.0 Command: /home/biocbuild/bbs-3.22-bioc/R/bin/R CMD INSTALL CGEN StartedAt: 2025-11-09 15:04:54 -0500 (Sun, 09 Nov 2025) EndedAt: 2025-11-09 15:05:30 -0500 (Sun, 09 Nov 2025) EllapsedTime: 36.0 seconds RetCode: 0 Status: OK