Package: CGEN Version: 3.46.0 Command: /home/biocbuild/bbs-3.22-bioc/R/bin/R CMD check --install=check:CGEN.install-out.txt --library=/home/biocbuild/bbs-3.22-bioc/R/site-library --timings CGEN_3.46.0.tar.gz StartedAt: 2025-11-09 22:08:44 -0500 (Sun, 09 Nov 2025) EndedAt: 2025-11-09 22:11:30 -0500 (Sun, 09 Nov 2025) EllapsedTime: 166.1 seconds RetCode: 0 Status: WARNINGS CheckDir: CGEN.Rcheck Warnings: 1