Package: CFAssay Version: 1.44.0 Command: /home/biocbuild/bbs-3.22-bioc/R/bin/R CMD INSTALL CFAssay StartedAt: 2025-11-06 15:01:32 -0500 (Thu, 06 Nov 2025) EndedAt: 2025-11-06 15:01:44 -0500 (Thu, 06 Nov 2025) EllapsedTime: 11.5 seconds RetCode: 0 Status: OK